BEGIN:VCALENDAR
VERSION:2.0
PRODID:spatie/icalendar-generator
NAME:
X-WR-CALNAME:
BEGIN:VTIMEZONE
TZID:Europe/Budapest
BEGIN:STANDARD
DTSTART:20251026T030000
TZOFFSETFROM:+0200
TZOFFSETTO:+0100
END:STANDARD
BEGIN:DAYLIGHT
DTSTART:20260329T010000
TZOFFSETFROM:+0100
TZOFFSETTO:+0200
END:DAYLIGHT
BEGIN:STANDARD
DTSTART:20261025T030000
TZOFFSETFROM:+0200
TZOFFSETTO:+0100
END:STANDARD
END:VTIMEZONE
BEGIN:VTIMEZONE
TZID:UTC
BEGIN:STANDARD
DTSTART:20250723T175909
TZOFFSETFROM:+0000
TZOFFSETTO:+0000
END:STANDARD
END:VTIMEZONE
BEGIN:VEVENT
UID:aff32391ae575fe1f13fcf4227615fcb
DTSTAMP:20260419T175909Z
SUMMARY:HANDBALL VESZPRÉM vs Csurgói KK
DESCRIPTION:One Veszprém
ORGANIZER;CN=One Veszprém:MAILTO:office@handballveszprem.hu
DTSTART;TZID=Europe/Budapest:20260423T180000
DTEND;TZID=Europe/Budapest:20260423T200000
END:VEVENT
END:VCALENDAR